BEGIN:VCALENDAR
VERSION:2.0
PRODID:-//hacksw/handcal//NONSGML v1.0//EN
BEGIN:VEVENT
SUMMARY:Meeting Saint Barthelemy d'Anjou
UID:cf21e810-6ca3-4bc8-b5cb-678c2f4c31ef
DTSTART:20260507T220000Z
DTEND:20260508T220000Z
LOCATION:Localisation   
CATEGORIES:Sportif
STATUS:
DESCRIPTION:<p><a
 href="https://stbarthelemy-athle.com/meeting-regional-ranking-8-mai-2026/"
 target="_blank" rel="noreferrer
 noopener">https://stbarthelemy-athle.com/meeting-regional-ranking-8-mai-2026/</a></p>
URL;VALUE=URI:https://www.athletisme-montfortlegesnois.com/evenements/2026/05/08/meeting-saint-barthelemy-danjou-2442748
END:VEVENT
END:VCALENDAR
